BEGIN:VCALENDAR
VERSION:2.0
PRODID:-//wp-events-plugin.com//7.2.3.1//EN
TZID:Europe/Berlin
X-WR-TIMEZONE:Europe/Berlin
BEGIN:VEVENT
UID:219@relpaed.plus
DTSTART;TZID=Europe/Berlin:20260709T090000
DTEND;TZID=Europe/Berlin:20260710T160000
DTSTAMP:20251126T145408Z
URL:https://relpaed.plus/events/dioezesane-fortbildung-berufsschule/
SUMMARY:Diözesane Fortbildung Berufsschule: Fremdheit verstehen\, Vielfalt
  gestalten - Religiöse Bildung im Spannungsfeld von Rassismus und Extremi
 smus\, Würzburg
DESCRIPTION:Jahrestagung des Bistums Würzburg für berufliche Schulen in Z
 usammenarbeit mit der Regierung von Unterfranken\n\nIn einer von religiös
 er und kultureller Pluralität geprägten Gesellschaft steht die religiös
 e Bildung vor besonderen Herausforderungen: Wie kann sie Schülerinnen und
  Schüler zu einem theologisch reflektierten\, weltoffenen und verantwortu
 ngsbewussten Umgang mit Differenz befähigen? Wie lassen sich christliche 
 und biblische Traditionen verständlich vermitteln\, ohne dabei Ausgrenzun
 g zu reproduzieren? Und welche Rolle spielt eine theologisch fundierte Aus
 einandersetzung mit Rassismus und Extremismus? Die Fortbildung bietet Raum
  für eine gemeinsame theologische Reflexion über Fremdheit\, Alterität 
 und das christliche Menschenbild im Horizont der christlich-biblischen Tra
 dition. Ziel ist es\, Lehrkräfte darin zu stärken\, religiöse Bildung s
 o zu gestalten\, dass sie zur Förderung demokratischer Haltungen\, zur Se
 nsibilisierung gegenüber Diskriminierung und zur konstruktiven Gestaltung
  von Vielfalt beiträgt.\n\nReferenten: Prof. Dr. Kathrin Gies\, Universit
 ät Bamberg und Dr. Matthias Helmer\, Theologische Fakultät Fulda\n\nAnme
 ldeschluss: 25.06.2026\n\nVeranstaltungsort: Exerzitienhaus Himmelspforten
 \, Mainaustraße 42\, 97082 Würzburg\n\nMehr...
CATEGORIES:Didaktik &amp; Methodik,Theologie &amp; Religionspädagogik
END:VEVENT
BEGIN:VTIMEZONE
TZID:Europe/Berlin
X-LIC-LOCATION:Europe/Berlin
BEGIN:DAYLIGHT
DTSTART:20260329T030000
TZOFFSETFROM:+0100
TZOFFSETTO:+0200
TZNAME:CEST
END:DAYLIGHT
END:VTIMEZONE
END:VCALENDAR